BEGIN:VCALENDAR
VERSION:2.0
PRODID:-//Saint-Remy - ECPv4.5.13//NONSGML v1.0//EN
CALSCALE:GREGORIAN
METHOD:PUBLISH
X-WR-CALNAME:Saint-Remy
X-ORIGINAL-URL:https://www.saint-remy71.fr
X-WR-CALDESC:Events for Saint-Remy
BEGIN:VEVENT
DTSTART;TZID=Europe/Paris:20260331T180000
DTEND;TZID=Europe/Paris:20260331T190000
DTSTAMP:20260419T154515
CREATED:20250124T124007Z
LAST-MODIFIED:20260330T085900Z
UID:10546-1774980000-1774983600@www.saint-remy71.fr
SUMMARY:Conseil Municipal
DESCRIPTION:
URL:https://www.saint-remy71.fr/evenement/conseil-municipal-2/
LOCATION:1 place Jean Jaurès\, Saint-Rémy\, 71100\, France
END:VEVENT
END:VCALENDAR