BEGIN:VCALENDAR
VERSION:2.0
PRODID:-//Saint-Remy - ECPv4.5.13//NONSGML v1.0//EN
CALSCALE:GREGORIAN
METHOD:PUBLISH
X-WR-CALNAME:Saint-Remy
X-ORIGINAL-URL:https://www.saint-remy71.fr
X-WR-CALDESC:Events for Saint-Remy
BEGIN:VEVENT
DTSTART;TZID=Europe/Paris:20240621T183000
DTEND;TZID=Europe/Paris:20240621T230000
DTSTAMP:20260420T121945
CREATED:20240613T091004Z
LAST-MODIFIED:20240613T091004Z
UID:9735-1718994600-1719010800@www.saint-remy71.fr
SUMMARY:Fête de la musique
DESCRIPTION:
URL:https://www.saint-remy71.fr/evenement/fete-de-la-musique-6/
END:VEVENT
END:VCALENDAR