BEGIN:VCALENDAR
VERSION:2.0
PRODID:-//Saint-Remy - ECPv4.5.13//NONSGML v1.0//EN
CALSCALE:GREGORIAN
METHOD:PUBLISH
X-WR-CALNAME:Saint-Remy
X-ORIGINAL-URL:https://www.saint-remy71.fr
X-WR-CALDESC:Events for Saint-Remy
BEGIN:VEVENT
DTSTART;TZID=Europe/Paris:20240606T190000
DTEND;TZID=Europe/Paris:20240606T210000
DTSTAMP:20260419T180831
CREATED:20240603T084016Z
LAST-MODIFIED:20240606T102239Z
UID:9715-1717700400-1717707600@www.saint-remy71.fr
SUMMARY:Les Jeudis de la Taverne
DESCRIPTION:Créé à l’occasion de leur mariage\, le duo est composé de Céline et Jérémy\, deux amoureux hauts en couleurs. \nAvec un goût prononcé pour les bandes originales des films de Tarantino et un répertoire pop/folk et fun\, dans l’air du temps. \nJérémy à la guitare\, tantôt acoustique\, tantôt électrique\, joue également de la batterie électronique et fait à lui seul se secouer les têtes et vibrer les corps sur les airs soigneusement sélectionnés par le couple. \nLa voix authentique et marquante de Céline vous emporte\, vous secoue et vous laisse un doux souvenir. \nLeur complicité et leur joyeuse folie rendent le tout attachant et addictif. \n Le duo parcourt le globe et partage ses aventures musicales sur les réseaux sociaux. \n Ils sont deux\, mais leur énergie remplit les plus grandes scènes\, un vrai spectacle ! \n
URL:https://www.saint-remy71.fr/evenement/les-jeudis-de-la-taverne-8/
LOCATION:Rue Auguste Martin\, Saint-Rémy\, 71100\, France
ATTACH;FMTTYPE=image/png:https://www.saint-remy71.fr/wp-content/uploads/2024/06/Affiche-Just-Married-Band.png
END:VEVENT
END:VCALENDAR