BEGIN:VCALENDAR
VERSION:2.0
PRODID:-//Saint-Remy - ECPv4.5.13//NONSGML v1.0//EN
CALSCALE:GREGORIAN
METHOD:PUBLISH
X-WR-CALNAME:Saint-Remy
X-ORIGINAL-URL:https://www.saint-remy71.fr
X-WR-CALDESC:Events for Saint-Remy
BEGIN:VEVENT
DTSTART;TZID=Europe/Paris:20260207T100000
DTEND;TZID=Europe/Paris:20260207T110000
DTSTAMP:20260420T121329
CREATED:20250124T123706Z
LAST-MODIFIED:20260122T133439Z
UID:10538-1770458400-1770462000@www.saint-remy71.fr
SUMMARY:Ouverture de Place à l'hiver
DESCRIPTION:
URL:https://www.saint-remy71.fr/evenement/ouverture-place-a-l-hiver/
LOCATION:1 place Jean Jaurès\, Saint-Rémy\, 71100\, France
END:VEVENT
END:VCALENDAR