BEGIN:VCALENDAR
VERSION:2.0
PRODID:-//Saint-Remy - ECPv4.5.13//NONSGML v1.0//EN
CALSCALE:GREGORIAN
METHOD:PUBLISH
X-WR-CALNAME:Saint-Remy
X-ORIGINAL-URL:https://www.saint-remy71.fr
X-WR-CALDESC:Events for Saint-Remy
BEGIN:VEVENT
DTSTART;VALUE=DATE:20260314
DTEND;VALUE=DATE:20260321
DTSTAMP:20260425T143214
CREATED:20250312T125901Z
LAST-MODIFIED:20260216T091021Z
UID:10730-1773446400-1774137599@www.saint-remy71.fr
SUMMARY:Semaine de la Petite Enfance
DESCRIPTION:Programme :  \nATELIERS POUR LES PROFESSIONNELS\nDE LA PETITE ENFANCE (CRÈCHES / MULTIACCUEIL / RPE)\nMARDI 17 ET VENDREDI 20 MARS\n9h30-10h15\n> Ateliers avec Anne Deguerne\n> 18-36 mois \n  \nHISTOIRES DANS MON TIROIR\nMERCREDI 18 MARS\n9h30-10h\n> Jeux et comptines\n> 3-5 ans \n  \nPARCOURS MOTRICITÉ AVEC LE SERVICE DES SPORTS\nMERCREDI 18 MARS\n14h30-15h15 ou 15h30-16h15\nRendez-vous au gymnase\n> 2-4 ans \n\nATELIER PORTAGE\nJEUDI 19 MARS\n9h-11h\n> Cloé Martin Dupont auxiliaire de puériculture\, vous propose un atelier autour du portage physiologique.\n> A destination des futurs parents et/ou jeunes parents (0-18 mois). \n  \nATELIER PARENTS-ENFANTS\nSAMEDI 21 MARSSAMEDI MARS\n9h30-10h30\n> Relaxation Parent/Enfant : gérer son stress et ses émotions.\n> 3-6 ans \n
URL:https://www.saint-remy71.fr/evenement/semaine-de-la-petite-enfance/
LOCATION:3 bis rue d'Ottweiler\, Saint-Rémy\, France
END:VEVENT
END:VCALENDAR