BEGIN:VCALENDAR
VERSION:2.0
PRODID:-//Saint-Remy - ECPv4.5.13//NONSGML v1.0//EN
CALSCALE:GREGORIAN
METHOD:PUBLISH
X-WR-CALNAME:Saint-Remy
X-ORIGINAL-URL:https://www.saint-remy71.fr
X-WR-CALDESC:Events for Saint-Remy
BEGIN:VEVENT
DTSTART;TZID=Europe/Paris:20251217T170000
DTEND;TZID=Europe/Paris:20251217T180000
DTSTAMP:20260420T133446
CREATED:20241129T092845Z
LAST-MODIFIED:20251112T132613Z
UID:10303-1765990800-1765994400@www.saint-remy71.fr
SUMMARY:Spectacle de Noël
DESCRIPTION:
URL:https://www.saint-remy71.fr/evenement/spectacle-de-noel-2/
LOCATION:Place Jean Jaurès\, Saint-Rémy\, 71100\, France
END:VEVENT
END:VCALENDAR